BEGIN:VCALENDAR
VERSION:2.0
PRODID:-//wp-events-plugin.com//7.2.3.1//ENBEGIN:VCALENDAR
VERSION:2.0
PRODID:-//wp-events-plugin.com//7.2.3.1//EN
BEGIN:VEVENT
UID:40@dev.svegcurling.se
DTSTART;TZID=Europe/Stockholm:20250131T170000
DTEND;TZID=Europe/Stockholm:20250131T180000
DTSTAMP:20240831T202753Z
URL:https://dev.svegcurling.se/kalender/foretagscurling-2/
SUMMARY:Företagscurling
DESCRIPTION:Bjud in dina kollegor till en eftermiddag med företagscurling!
  En perfekt aktivitet för teambuilding och en rolig utmaning på isen. Ko
 m ihåg att ta med varma träningskläder och ett par rena gymnastikskor.
CATEGORIES:Företagscurling
LOCATION:Svegs Curlingklubb\, Gränsgatan 47\, Sveg\, Jämtlands län\, 842
  33\, Härjedalen\, Sverige
X-APPLE-STRUCTURED-LOCATION;VALUE=URI;X-ADDRESS=Gränsgatan 47\, Sveg\, Jä
 mtlands län\, 842 33\, Härjedalen\, Sverige;X-APPLE-RADIUS=100;X-TITLE=S
 vegs Curlingklubb:geo:0,0
END:VEVENT
BEGIN:VTIMEZONE
TZID:Europe/Stockholm
X-LIC-LOCATION:Europe/Stockholm
BEGIN:STANDARD
DTSTART:20241027T020000
TZOFFSETFROM:+0200
TZOFFSETTO:+0100
TZNAME:CET
END:STANDARD
END:VTIMEZONE
END:VCALENDAR