BEGIN:VCALENDAR
VERSION:2.0
PRODID:-//wp-events-plugin.com//7.2.3.1//ENBEGIN:VCALENDAR
VERSION:2.0
PRODID:-//wp-events-plugin.com//7.2.3.1//EN
BEGIN:VEVENT
UID:46@dev.svegcurling.se
DTSTART;TZID=Europe/Stockholm:20250201T170000
DTEND;TZID=Europe/Stockholm:20250201T180000
DTSTAMP:20240831T204058Z
URL:https://dev.svegcurling.se/kalender/ungdomstavling-aldre-2/
SUMMARY:Ungdomstävling - äldre
DESCRIPTION:Ungdomstävlingen består av de äldre ungdomsmedlemmarna uppde
 lade i två lag. Övriga är välkomna att närvara och se på.\n\nAnmäla
 n sker på våran Facebooksida
CATEGORIES:Tävlingar
LOCATION:Svegs Curlingklubb\, Gränsgatan 47\, Sveg\, Jämtlands län\, 842
  33\, Härjedalen\, Sverige
X-APPLE-STRUCTURED-LOCATION;VALUE=URI;X-ADDRESS=Gränsgatan 47\, Sveg\, Jä
 mtlands län\, 842 33\, Härjedalen\, Sverige;X-APPLE-RADIUS=100;X-TITLE=S
 vegs Curlingklubb:geo:0,0
END:VEVENT
BEGIN:VTIMEZONE
TZID:Europe/Stockholm
X-LIC-LOCATION:Europe/Stockholm
BEGIN:STANDARD
DTSTART:20241027T020000
TZOFFSETFROM:+0200
TZOFFSETTO:+0100
TZNAME:CET
END:STANDARD
END:VTIMEZONE
END:VCALENDAR