BEGIN:VCALENDAR
VERSION:2.0
PRODID:-//wp-events-plugin.com//7.2.3.1//ENBEGIN:VCALENDAR
VERSION:2.0
PRODID:-//wp-events-plugin.com//7.2.3.1//EN
BEGIN:VEVENT
UID:4@dev.svegcurling.se
DTSTART;TZID=Europe/Stockholm:20240918T163000
DTEND;TZID=Europe/Stockholm:20240918T183000
DTSTAMP:20240831T171517Z
URL:https://dev.svegcurling.se/kalender/ungdomstraning-2024-09-18/
SUMMARY:Ungdomsträning
DESCRIPTION:Ungdomsträning pågår varje onsdag kl. 16:30-18:30. De yngre 
 tränar kl. 16:30-17:30. Därefter tränar de äldre ungdomarna.
CATEGORIES:Träningstillfällen
LOCATION:Svegs Curlingklubb\, Gränsgatan 47\, Sveg\, Jämtlands län\, 842
  33\, Härjedalen\, Sverige
X-APPLE-STRUCTURED-LOCATION;VALUE=URI;X-ADDRESS=Gränsgatan 47\, Sveg\, Jä
 mtlands län\, 842 33\, Härjedalen\, Sverige;X-APPLE-RADIUS=100;X-TITLE=S
 vegs Curlingklubb:geo:0,0
END:VEVENT
BEGIN:VTIMEZONE
TZID:Europe/Stockholm
X-LIC-LOCATION:Europe/Stockholm
BEGIN:DAYLIGHT
DTSTART:20240331T030000
TZOFFSETFROM:+0100
TZOFFSETTO:+0200
TZNAME:CEST
END:DAYLIGHT
END:VTIMEZONE
END:VCALENDAR