BEGIN:VCALENDAR
VERSION:2.0
PRODID:-//wp-events-plugin.com//7.2.3.1//ENBEGIN:VCALENDAR
VERSION:2.0
PRODID:-//wp-events-plugin.com//7.2.3.1//EN
BEGIN:VEVENT
UID:13@dev.svegcurling.se
DTSTART;TZID=Europe/Stockholm:20241120T163000
DTEND;TZID=Europe/Stockholm:20241120T183000
DTSTAMP:20240831T171517Z
URL:https://dev.svegcurling.se/kalender/ungdomstraning-2024-11-20/
SUMMARY:Ungdomsträning
DESCRIPTION:Ungdomsträning pågår varje onsdag kl. 16:30-18:30. De yngre 
 tränar kl. 16:30-17:30. Därefter tränar de äldre ungdomarna.
CATEGORIES:Träningstillfällen
LOCATION:Svegs Curlingklubb\, Gränsgatan 47\, Sveg\, Jämtlands län\, 842
  33\, Härjedalen\, Sverige
X-APPLE-STRUCTURED-LOCATION;VALUE=URI;X-ADDRESS=Gränsgatan 47\, Sveg\, Jä
 mtlands län\, 842 33\, Härjedalen\, Sverige;X-APPLE-RADIUS=100;X-TITLE=S
 vegs Curlingklubb:geo:0,0
END:VEVENT
BEGIN:VTIMEZONE
TZID:Europe/Stockholm
X-LIC-LOCATION:Europe/Stockholm
BEGIN:STANDARD
DTSTART:20241027T020000
TZOFFSETFROM:+0200
TZOFFSETTO:+0100
TZNAME:CET
END:STANDARD
END:VTIMEZONE
END:VCALENDAR